BEGIN:VCALENDAR
VERSION:2.0
PRODID:-//Independent Long-Term Care Councils Association of BC - ECPv6.15.20//NONSGML v1.0//EN
CALSCALE:GREGORIAN
METHOD:PUBLISH
X-ORIGINAL-URL:https://iltccabc.ca
X-WR-CALDESC:Events for Independent Long-Term Care Councils Association of BC
REFRESH-INTERVAL;VALUE=DURATION:PT1H
X-Robots-Tag:noindex
X-PUBLISHED-TTL:PT1H
BEGIN:VTIMEZONE
TZID:America/Vancouver
BEGIN:DAYLIGHT
TZOFFSETFROM:-0800
TZOFFSETTO:-0700
TZNAME:PDT
DTSTART:20250309T100000
END:DAYLIGHT
BEGIN:STANDARD
TZOFFSETFROM:-0700
TZOFFSETTO:-0800
TZNAME:PST
DTSTART:20251102T090000
END:STANDARD
BEGIN:DAYLIGHT
TZOFFSETFROM:-0800
TZOFFSETTO:-0700
TZNAME:PDT
DTSTART:20260308T100000
END:DAYLIGHT
BEGIN:STANDARD
TZOFFSETFROM:-0700
TZOFFSETTO:-0800
TZNAME:PST
DTSTART:20261101T090000
END:STANDARD
BEGIN:DAYLIGHT
TZOFFSETFROM:-0800
TZOFFSETTO:-0700
TZNAME:PDT
DTSTART:20270314T100000
END:DAYLIGHT
BEGIN:STANDARD
TZOFFSETFROM:-0700
TZOFFSETTO:-0800
TZNAME:PST
DTSTART:20271107T090000
END:STANDARD
END:VTIMEZONE
BEGIN:VEVENT
DTSTART;TZID=America/Vancouver:20260917T183000
DTEND;TZID=America/Vancouver:20260917T200000
DTSTAMP:20260421T181155
CREATED:20260420T220129Z
LAST-MODIFIED:20260420T220247Z
UID:9682-1789669800-1789675200@iltccabc.ca
SUMMARY:ILTCCABC  Monthly Meeting of Representatives and AGM
DESCRIPTION:ILTCCABC  Monthly Meeting of Representatives and AGMAttendance is by invitation only.5 Regional Associations of Family Councils elect three representatives each to attend and contribute to ILTCCABC meetings.For information on how to volunteer as a representative\, contact us: https://iltccabc.ca/contact-us/ 
URL:https://iltccabc.ca/event/iltccabc-monthly-meeting-of-representatives-and-agm-2/
END:VEVENT
END:VCALENDAR